BEGIN:VCALENDAR
VERSION:2.0
PRODID:-//St Jude&#039;s Anglican Church - ECPv6.15.20//NONSGML v1.0//EN
CALSCALE:GREGORIAN
METHOD:PUBLISH
X-ORIGINAL-URL:https://stjudesrec.org
X-WR-CALDESC:Events for St Jude&#039;s Anglican Church
REFRESH-INTERVAL;VALUE=DURATION:PT1H
X-Robots-Tag:noindex
X-PUBLISHED-TTL:PT1H
BEGIN:VTIMEZONE
TZID:America/New_York
BEGIN:DAYLIGHT
TZOFFSETFROM:-0500
TZOFFSETTO:-0400
TZNAME:EDT
DTSTART:20270314T070000
END:DAYLIGHT
BEGIN:STANDARD
TZOFFSETFROM:-0400
TZOFFSETTO:-0500
TZNAME:EST
DTSTART:20271107T060000
END:STANDARD
BEGIN:DAYLIGHT
TZOFFSETFROM:-0500
TZOFFSETTO:-0400
TZNAME:EDT
DTSTART:20280312T070000
END:DAYLIGHT
BEGIN:STANDARD
TZOFFSETFROM:-0400
TZOFFSETTO:-0500
TZNAME:EST
DTSTART:20281105T060000
END:STANDARD
BEGIN:DAYLIGHT
TZOFFSETFROM:-0500
TZOFFSETTO:-0400
TZNAME:EDT
DTSTART:20290311T070000
END:DAYLIGHT
BEGIN:STANDARD
TZOFFSETFROM:-0400
TZOFFSETTO:-0500
TZNAME:EST
DTSTART:20291104T060000
END:STANDARD
BEGIN:DAYLIGHT
TZOFFSETFROM:-0500
TZOFFSETTO:-0400
TZNAME:EDT
DTSTART:20300310T070000
END:DAYLIGHT
BEGIN:STANDARD
TZOFFSETFROM:-0400
TZOFFSETTO:-0500
TZNAME:EST
DTSTART:20301103T060000
END:STANDARD
END:VTIMEZONE
BEGIN:VEVENT
DTSTART;TZID=America/New_York:20281225T100000
DTEND;TZID=America/New_York:20281225T113000
DTSTAMP:20260419T141725
CREATED:20241120T164442Z
LAST-MODIFIED:20241120T165020Z
UID:10001970-1861351200-1861356600@stjudesrec.org
SUMMARY:Feast of the Nativity
DESCRIPTION:Join us as we celebrate the birth of Jesus Christ\, our Lord and King\, with a Holy Communion service.
URL:https://stjudesrec.org/calendar/feast-of-the-nativity/2028-12-25/
LOCATION:St. Jude’s Anglican Church\, 8102 Ridge Rd\, Richmond\, VA\, 23229\, United States
CATEGORIES:Feast Days
ATTACH;FMTTYPE=image/jpeg:https://stjudesrec.org/wp-content/uploads/2024/11/Botticelli_Nativity.jpg
END:VEVENT
BEGIN:VEVENT
DTSTART;TZID=America/New_York:20281226T100000
DTEND;TZID=America/New_York:20281226T103000
DTSTAMP:20260419T141725
CREATED:20241120T164936Z
LAST-MODIFIED:20241120T164936Z
UID:10001975-1861437600-1861439400@stjudesrec.org
SUMMARY:Feast of St. Stephen\, Deacon and Martyr
DESCRIPTION:Holy Communion service
URL:https://stjudesrec.org/calendar/feast-of-st-stephen-deacon-and-martyr/2028-12-26/
LOCATION:St. Jude’s Anglican Church\, 8102 Ridge Rd\, Richmond\, VA\, 23229\, United States
CATEGORIES:Feast Days
ATTACH;FMTTYPE=image/jpeg:https://stjudesrec.org/wp-content/uploads/2024/11/1280px-La_Predication_de_saint_Etienne_a_Jerusalem_de_Carpaccio.jpg
END:VEVENT
BEGIN:VEVENT
DTSTART;TZID=America/New_York:20281227T100000
DTEND;TZID=America/New_York:20281227T103000
DTSTAMP:20260419T141725
CREATED:20241120T165226Z
LAST-MODIFIED:20241120T165226Z
UID:10001980-1861524000-1861525800@stjudesrec.org
SUMMARY:Feast of St. John the Evangelist
DESCRIPTION:Holy Communion service
URL:https://stjudesrec.org/calendar/feast-of-st-john-the-evangelist/2028-12-27/
LOCATION:St. Jude’s Anglican Church\, 8102 Ridge Rd\, Richmond\, VA\, 23229\, United States
CATEGORIES:Feast Days
ATTACH;FMTTYPE=image/jpeg:https://stjudesrec.org/wp-content/uploads/2024/11/GRM_Inv._J-3182.jpg
END:VEVENT
BEGIN:VEVENT
DTSTART;TZID=America/New_York:20281228T100000
DTEND;TZID=America/New_York:20281228T103000
DTSTAMP:20260419T141725
CREATED:20241120T170157Z
LAST-MODIFIED:20241120T170215Z
UID:10001985-1861610400-1861612200@stjudesrec.org
SUMMARY:Feast of the Holy Innocents
DESCRIPTION:Holy Communion service
URL:https://stjudesrec.org/calendar/feast-of-the-holy-innocents/2028-12-28/
LOCATION:St. Jude’s Anglican Church\, 8102 Ridge Rd\, Richmond\, VA\, 23229\, United States
CATEGORIES:Feast Days
ATTACH;FMTTYPE=image/jpeg:https://stjudesrec.org/wp-content/uploads/2024/11/main-image.jpg
END:VEVENT
BEGIN:VEVENT
DTSTART;TZID=America/New_York:20290101T100000
DTEND;TZID=America/New_York:20290101T103000
DTSTAMP:20260419T141725
CREATED:20241120T170647Z
LAST-MODIFIED:20241120T170647Z
UID:10001990-1861956000-1861957800@stjudesrec.org
SUMMARY:Feast of the Circumcision of Christ
DESCRIPTION:Holy Communion service
URL:https://stjudesrec.org/calendar/feast-of-the-circumcision-of-christ/2029-01-01/
LOCATION:St. Jude’s Anglican Church\, 8102 Ridge Rd\, Richmond\, VA\, 23229\, United States
CATEGORIES:Feast Days
ATTACH;FMTTYPE=image/jpeg:https://stjudesrec.org/wp-content/uploads/2024/11/420px-Menologion_of_Basil_047.jpg
END:VEVENT
BEGIN:VEVENT
DTSTART;TZID=America/New_York:20290106T100000
DTEND;TZID=America/New_York:20290106T103000
DTSTAMP:20260419T141725
CREATED:20241120T170916Z
LAST-MODIFIED:20241120T170916Z
UID:10001995-1862388000-1862389800@stjudesrec.org
SUMMARY:Feast of the Epiphany
DESCRIPTION:Holy Communion service
URL:https://stjudesrec.org/calendar/feast-of-the-epiphany/2029-01-06/
LOCATION:St. Jude’s Anglican Church\, 8102 Ridge Rd\, Richmond\, VA\, 23229\, United States
CATEGORIES:Feast Days
ATTACH;FMTTYPE=image/jpeg:https://stjudesrec.org/wp-content/uploads/2024/11/Abraham_Bloemaert_-_The_adoration_of_the_Magi_-_Google_Art_Project.jpg
END:VEVENT
BEGIN:VEVENT
DTSTART;TZID=America/New_York:20290125T090000
DTEND;TZID=America/New_York:20290125T093000
DTSTAMP:20260419T141725
CREATED:20250120T140731Z
LAST-MODIFIED:20250120T140731Z
UID:10002006-1864026000-1864027800@stjudesrec.org
SUMMARY:Feast of the Conversion of St. Paul
DESCRIPTION:Service of Holy Communion
URL:https://stjudesrec.org/calendar/feast-of-the-conversion-of-st-paul/2029-01-25/
LOCATION:St. Jude’s Anglican Church\, 8102 Ridge Rd\, Richmond\, VA\, 23229\, United States
CATEGORIES:Feast Days
ATTACH;FMTTYPE=image/jpeg:https://stjudesrec.org/wp-content/uploads/2025/01/800px-The_Conversion_of_Saint_Paul-Caravaggio_c._1600-1.jpg
END:VEVENT
BEGIN:VEVENT
DTSTART;TZID=America/New_York:20290202T100000
DTEND;TZID=America/New_York:20290202T110000
DTSTAMP:20260419T141725
CREATED:20250120T141249Z
LAST-MODIFIED:20250120T141249Z
UID:10002011-1864720800-1864724400@stjudesrec.org
SUMMARY:Feast of the Presentation of Christ in the Temple\, commonly called the Purification of the Virgin Mary
DESCRIPTION:Service of Holy Communion
URL:https://stjudesrec.org/calendar/feast-of-the-presentation-of-christ-in-the-temple-commonly-called-the-purification-of-the-virgin-mary/2029-02-02/
LOCATION:St. Jude’s Anglican Church\, 8102 Ridge Rd\, Richmond\, VA\, 23229\, United States
CATEGORIES:Feast Days
ATTACH;FMTTYPE=image/jpeg:https://stjudesrec.org/wp-content/uploads/2025/01/Fra_Bartolomeo_007.jpg
END:VEVENT
BEGIN:VEVENT
DTSTART;TZID=America/New_York:20290224T100000
DTEND;TZID=America/New_York:20290224T110000
DTSTAMP:20260419T141725
CREATED:20250120T141852Z
LAST-MODIFIED:20250120T141852Z
UID:10002016-1866621600-1866625200@stjudesrec.org
SUMMARY:Feast of St. Matthias the Apostle
DESCRIPTION:
URL:https://stjudesrec.org/calendar/feast-of-st-matthias-the-apostle/2029-02-24/
LOCATION:St. Jude’s Anglican Church\, 8102 Ridge Rd\, Richmond\, VA\, 23229\, United States
CATEGORIES:Feast Days
ATTACH;FMTTYPE=image/jpeg:https://stjudesrec.org/wp-content/uploads/2025/01/Rubens_apostle_Matthias_grt.jpg
END:VEVENT
BEGIN:VEVENT
DTSTART;TZID=America/New_York:20290325T100000
DTEND;TZID=America/New_York:20290325T110000
DTSTAMP:20260419T141725
CREATED:20250323T123504Z
LAST-MODIFIED:20250323T124202Z
UID:10002097-1869127200-1869130800@stjudesrec.org
SUMMARY:Feast of the Annunciation of the Virgin Mary
DESCRIPTION:Holy Communion service
URL:https://stjudesrec.org/calendar/feast-of-the-annunciation-of-the-virgin-mary/2029-03-25/
LOCATION:St. Jude’s Anglican Church\, 8102 Ridge Rd\, Richmond\, VA\, 23229\, United States
CATEGORIES:Feast Days
ATTACH;FMTTYPE=image/jpeg:https://stjudesrec.org/wp-content/uploads/2025/03/John_William_Waterhouse_-_The_Annunciation.jpg
END:VEVENT
BEGIN:VEVENT
DTSTART;TZID=America/New_York:20290501T080000
DTEND;TZID=America/New_York:20290501T170000
DTSTAMP:20260419T141725
CREATED:20250318T143723Z
LAST-MODIFIED:20250318T143723Z
UID:10002047-1872316800-1872349200@stjudesrec.org
SUMMARY:Feast of St. Philip and St. James\, Apostles
DESCRIPTION:Holy Communion service
URL:https://stjudesrec.org/calendar/feast-of-st-philip-and-st-james-apostles/2029-05-01/
LOCATION:St. Jude’s Anglican Church\, 8102 Ridge Rd\, Richmond\, VA\, 23229\, United States
CATEGORIES:Feast Days
ATTACH;FMTTYPE=image/jpeg:https://stjudesrec.org/wp-content/uploads/2025/03/Saints_James_and_Philip_.jpg
END:VEVENT
BEGIN:VEVENT
DTSTART;TZID=America/New_York:20290611T100000
DTEND;TZID=America/New_York:20290611T170000
DTSTAMP:20260419T141725
CREATED:20250527T155134Z
LAST-MODIFIED:20250527T155134Z
UID:10002114-1875866400-1875891600@stjudesrec.org
SUMMARY:Feast of St. Barnabas the Apostle
DESCRIPTION:Holy Communion Service
URL:https://stjudesrec.org/calendar/feast-of-st-barnabas-the-apostle/2029-06-11/
LOCATION:St. Jude’s Anglican Church\, 8102 Ridge Rd\, Richmond\, VA\, 23229\, United States
CATEGORIES:Feast Days
ATTACH;FMTTYPE=image/jpeg:https://stjudesrec.org/wp-content/uploads/2025/05/1200px-Paul_and_Barnabas_at_Lystra_MET_DP133560.jpg
END:VEVENT
BEGIN:VEVENT
DTSTART;TZID=America/New_York:20290624T100000
DTEND;TZID=America/New_York:20290624T170000
DTSTAMP:20260419T141725
CREATED:20250527T155408Z
LAST-MODIFIED:20250527T155408Z
UID:10002119-1876989600-1877014800@stjudesrec.org
SUMMARY:Nativity of St. John the Baptist
DESCRIPTION:Holy Communion service
URL:https://stjudesrec.org/calendar/nativity-of-st-john-the-baptist/2029-06-24/
LOCATION:St. Jude’s Anglican Church\, 8102 Ridge Rd\, Richmond\, VA\, 23229\, United States
CATEGORIES:Feast Days
ATTACH;FMTTYPE=image/jpeg:https://stjudesrec.org/wp-content/uploads/2025/05/1161px-Birth_of_St_John_the_Baptist_Giordano.jpg
END:VEVENT
BEGIN:VEVENT
DTSTART;TZID=America/New_York:20290629T100000
DTEND;TZID=America/New_York:20290629T110000
DTSTAMP:20260419T141725
CREATED:20250527T160116Z
LAST-MODIFIED:20250527T160116Z
UID:10002124-1877421600-1877425200@stjudesrec.org
SUMMARY:Feast of St. Peter the Apostle
DESCRIPTION:Holy Communion service
URL:https://stjudesrec.org/calendar/feast-of-st-peter-the-apostle/2029-06-29/
LOCATION:St. Jude’s Anglican Church\, 8102 Ridge Rd\, Richmond\, VA\, 23229\, United States
CATEGORIES:Feast Days
ATTACH;FMTTYPE=image/jpeg:https://stjudesrec.org/wp-content/uploads/2025/05/800px-Crucifixion_of_Saint_Peter-Caravaggio_c.1600.jpg
END:VEVENT
END:VCALENDAR