BEGIN:VCALENDAR
VERSION:2.0
PRODID:-//St Jude&#039;s Anglican Church - ECPv6.15.20//NONSGML v1.0//EN
CALSCALE:GREGORIAN
METHOD:PUBLISH
X-WR-CALNAME:St Jude&#039;s Anglican Church
X-ORIGINAL-URL:https://stjudesrec.org
X-WR-CALDESC:Events for St Jude&#039;s Anglican Church
REFRESH-INTERVAL;VALUE=DURATION:PT1H
X-Robots-Tag:noindex
X-PUBLISHED-TTL:PT1H
BEGIN:VTIMEZONE
TZID:America/New_York
BEGIN:DAYLIGHT
TZOFFSETFROM:-0500
TZOFFSETTO:-0400
TZNAME:EDT
DTSTART:20280312T070000
END:DAYLIGHT
BEGIN:STANDARD
TZOFFSETFROM:-0400
TZOFFSETTO:-0500
TZNAME:EST
DTSTART:20281105T060000
END:STANDARD
BEGIN:DAYLIGHT
TZOFFSETFROM:-0500
TZOFFSETTO:-0400
TZNAME:EDT
DTSTART:20290311T070000
END:DAYLIGHT
BEGIN:STANDARD
TZOFFSETFROM:-0400
TZOFFSETTO:-0500
TZNAME:EST
DTSTART:20291104T060000
END:STANDARD
BEGIN:DAYLIGHT
TZOFFSETFROM:-0500
TZOFFSETTO:-0400
TZNAME:EDT
DTSTART:20300310T070000
END:DAYLIGHT
BEGIN:STANDARD
TZOFFSETFROM:-0400
TZOFFSETTO:-0500
TZNAME:EST
DTSTART:20301103T060000
END:STANDARD
END:VTIMEZONE
BEGIN:VEVENT
DTSTART;TZID=America/New_York:20290125T090000
DTEND;TZID=America/New_York:20290125T093000
DTSTAMP:20260419T150211
CREATED:20250120T140731Z
LAST-MODIFIED:20250120T140731Z
UID:10002006-1864026000-1864027800@stjudesrec.org
SUMMARY:Feast of the Conversion of St. Paul
DESCRIPTION:Service of Holy Communion
URL:https://stjudesrec.org/calendar/feast-of-the-conversion-of-st-paul/2029-01-25/
LOCATION:St. Jude’s Anglican Church\, 8102 Ridge Rd\, Richmond\, VA\, 23229\, United States
CATEGORIES:Feast Days
ATTACH;FMTTYPE=image/jpeg:https://stjudesrec.org/wp-content/uploads/2025/01/800px-The_Conversion_of_Saint_Paul-Caravaggio_c._1600-1.jpg
END:VEVENT
BEGIN:VEVENT
DTSTART;TZID=America/New_York:20290202T100000
DTEND;TZID=America/New_York:20290202T110000
DTSTAMP:20260419T150211
CREATED:20250120T141249Z
LAST-MODIFIED:20250120T141249Z
UID:10002011-1864720800-1864724400@stjudesrec.org
SUMMARY:Feast of the Presentation of Christ in the Temple\, commonly called the Purification of the Virgin Mary
DESCRIPTION:Service of Holy Communion
URL:https://stjudesrec.org/calendar/feast-of-the-presentation-of-christ-in-the-temple-commonly-called-the-purification-of-the-virgin-mary/2029-02-02/
LOCATION:St. Jude’s Anglican Church\, 8102 Ridge Rd\, Richmond\, VA\, 23229\, United States
CATEGORIES:Feast Days
ATTACH;FMTTYPE=image/jpeg:https://stjudesrec.org/wp-content/uploads/2025/01/Fra_Bartolomeo_007.jpg
END:VEVENT
END:VCALENDAR