BEGIN:VCALENDAR
VERSION:2.0
PRODID:-//St Jude&#039;s Anglican Church - ECPv6.15.20//NONSGML v1.0//EN
CALSCALE:GREGORIAN
METHOD:PUBLISH
X-ORIGINAL-URL:https://stjudesrec.org
X-WR-CALDESC:Events for St Jude&#039;s Anglican Church
REFRESH-INTERVAL;VALUE=DURATION:PT1H
X-Robots-Tag:noindex
X-PUBLISHED-TTL:PT1H
BEGIN:VTIMEZONE
TZID:America/New_York
BEGIN:DAYLIGHT
TZOFFSETFROM:-0500
TZOFFSETTO:-0400
TZNAME:EDT
DTSTART:20240310T070000
END:DAYLIGHT
BEGIN:STANDARD
TZOFFSETFROM:-0400
TZOFFSETTO:-0500
TZNAME:EST
DTSTART:20241103T060000
END:STANDARD
BEGIN:DAYLIGHT
TZOFFSETFROM:-0500
TZOFFSETTO:-0400
TZNAME:EDT
DTSTART:20250309T070000
END:DAYLIGHT
BEGIN:STANDARD
TZOFFSETFROM:-0400
TZOFFSETTO:-0500
TZNAME:EST
DTSTART:20251102T060000
END:STANDARD
BEGIN:DAYLIGHT
TZOFFSETFROM:-0500
TZOFFSETTO:-0400
TZNAME:EDT
DTSTART:20260308T070000
END:DAYLIGHT
BEGIN:STANDARD
TZOFFSETFROM:-0400
TZOFFSETTO:-0500
TZNAME:EST
DTSTART:20261101T060000
END:STANDARD
BEGIN:DAYLIGHT
TZOFFSETFROM:-0500
TZOFFSETTO:-0400
TZNAME:EDT
DTSTART:20270314T070000
END:DAYLIGHT
BEGIN:STANDARD
TZOFFSETFROM:-0400
TZOFFSETTO:-0500
TZNAME:EST
DTSTART:20271107T060000
END:STANDARD
END:VTIMEZONE
BEGIN:VEVENT
DTSTART;TZID=America/New_York:20251125T190000
DTEND;TZID=America/New_York:20251125T200000
DTSTAMP:20260421T195403
CREATED:20241108T171954Z
LAST-MODIFIED:20241108T172051Z
UID:10001957-1764097200-1764100800@stjudesrec.org
SUMMARY:Thanksgiving Service
DESCRIPTION:Evening Prayer with sermon
URL:https://stjudesrec.org/calendar/thanksgiving-service/2025-11-25/
LOCATION:St. Jude’s Anglican Church\, 8102 Ridge Rd\, Richmond\, VA\, 23229\, United States
ATTACH;FMTTYPE=image/jpeg:https://stjudesrec.org/wp-content/uploads/2024/11/aaron-burden-njTzygd3iMw-unsplash.jpg
END:VEVENT
BEGIN:VEVENT
DTSTART;TZID=America/New_York:20251130T100000
DTEND;TZID=America/New_York:20251130T230000
DTSTAMP:20260421T195403
CREATED:20241023T183022Z
LAST-MODIFIED:20241023T183022Z
UID:10001948-1764496800-1764543600@stjudesrec.org
SUMMARY:Feast of St. Andrew the Apostle
DESCRIPTION:Holy Communion service
URL:https://stjudesrec.org/calendar/feast-of-st-andrew-the-apostle/2025-11-30/
LOCATION:St. Jude’s Anglican Church\, 8102 Ridge Rd\, Richmond\, VA\, 23229\, United States
CATEGORIES:Feast Days
ATTACH;FMTTYPE=image/jpeg:https://stjudesrec.org/wp-content/uploads/2024/10/Artus_Wolffort_-_St_Andrew_-_WGA25857.jpg
END:VEVENT
BEGIN:VEVENT
DTSTART;TZID=America/New_York:20251211T190000
DTEND;TZID=America/New_York:20251211T200000
DTSTAMP:20260421T195403
CREATED:20251112T161120Z
LAST-MODIFIED:20251112T161120Z
UID:10002130-1765479600-1765483200@stjudesrec.org
SUMMARY:Book Club: The Nativity and Epiphany Sermons of St. Leo the Great
DESCRIPTION:Join us as we discuss the sermons of a great church father\, appropriate for the festive seasons coming upon us!
URL:https://stjudesrec.org/calendar/book-club-the-nativity-and-epiphany-sermons-of-st-leo-the-great/
LOCATION:St. Jude’s Anglican Church\, 8102 Ridge Rd\, Richmond\, VA\, 23229\, United States
CATEGORIES:Book Club
ATTACH;FMTTYPE=image/jpeg:https://stjudesrec.org/wp-content/uploads/2025/11/St.-Judes-Book-Club-scaled.jpg
END:VEVENT
BEGIN:VEVENT
DTSTART;TZID=America/New_York:20251221T100000
DTEND;TZID=America/New_York:20251221T223000
DTSTAMP:20260421T195403
CREATED:20241205T141723Z
LAST-MODIFIED:20241205T141723Z
UID:10001997-1766311200-1766356200@stjudesrec.org
SUMMARY:Feast of St. Thomas the Apostle
DESCRIPTION:Holy Communion service
URL:https://stjudesrec.org/calendar/feast-of-st-thomas-the-apostle/2025-12-21/
LOCATION:St. Jude’s Anglican Church\, 8102 Ridge Rd\, Richmond\, VA\, 23229\, United States
CATEGORIES:Feast Days
ATTACH;FMTTYPE=image/jpeg:https://stjudesrec.org/wp-content/uploads/2024/12/Santo_Tomas_by_Diego_Velazquez.jpg
END:VEVENT
BEGIN:VEVENT
DTSTART;TZID=America/New_York:20251224T163000
DTEND;TZID=America/New_York:20251224T180000
DTSTAMP:20260421T195403
CREATED:20241120T163748Z
LAST-MODIFIED:20241120T165026Z
UID:10001962-1766593800-1766599200@stjudesrec.org
SUMMARY:Christmas Eve
DESCRIPTION:Lessons and Carols\, ending with singing by candlelight and silent departure–join us as we welcome the birth of our Savior\, Jesus Christ!
URL:https://stjudesrec.org/calendar/christmas-eve/2025-12-24/
LOCATION:St. Jude’s Anglican Church\, 8102 Ridge Rd\, Richmond\, VA\, 23229\, United States
CATEGORIES:Feast Days
ATTACH;FMTTYPE=image/jpeg:https://stjudesrec.org/wp-content/uploads/2024/11/1200px-The_Angel_Appearing_to_the_Shepherds_Thomas_Cole.jpg
END:VEVENT
BEGIN:VEVENT
DTSTART;TZID=America/New_York:20251225T100000
DTEND;TZID=America/New_York:20251225T113000
DTSTAMP:20260421T195403
CREATED:20241120T164442Z
LAST-MODIFIED:20241120T165020Z
UID:10001967-1766656800-1766662200@stjudesrec.org
SUMMARY:Feast of the Nativity
DESCRIPTION:Join us as we celebrate the birth of Jesus Christ\, our Lord and King\, with a Holy Communion service.
URL:https://stjudesrec.org/calendar/feast-of-the-nativity/2025-12-25/
LOCATION:St. Jude’s Anglican Church\, 8102 Ridge Rd\, Richmond\, VA\, 23229\, United States
CATEGORIES:Feast Days
ATTACH;FMTTYPE=image/jpeg:https://stjudesrec.org/wp-content/uploads/2024/11/Botticelli_Nativity.jpg
END:VEVENT
BEGIN:VEVENT
DTSTART;TZID=America/New_York:20251226T100000
DTEND;TZID=America/New_York:20251226T103000
DTSTAMP:20260421T195403
CREATED:20241120T164936Z
LAST-MODIFIED:20241120T164936Z
UID:10001972-1766743200-1766745000@stjudesrec.org
SUMMARY:Feast of St. Stephen\, Deacon and Martyr
DESCRIPTION:Holy Communion service
URL:https://stjudesrec.org/calendar/feast-of-st-stephen-deacon-and-martyr/2025-12-26/
LOCATION:St. Jude’s Anglican Church\, 8102 Ridge Rd\, Richmond\, VA\, 23229\, United States
CATEGORIES:Feast Days
ATTACH;FMTTYPE=image/jpeg:https://stjudesrec.org/wp-content/uploads/2024/11/1280px-La_Predication_de_saint_Etienne_a_Jerusalem_de_Carpaccio.jpg
END:VEVENT
BEGIN:VEVENT
DTSTART;TZID=America/New_York:20251227T100000
DTEND;TZID=America/New_York:20251227T103000
DTSTAMP:20260421T195403
CREATED:20241120T165226Z
LAST-MODIFIED:20241120T165226Z
UID:10001977-1766829600-1766831400@stjudesrec.org
SUMMARY:Feast of St. John the Evangelist
DESCRIPTION:Holy Communion service
URL:https://stjudesrec.org/calendar/feast-of-st-john-the-evangelist/2025-12-27/
LOCATION:St. Jude’s Anglican Church\, 8102 Ridge Rd\, Richmond\, VA\, 23229\, United States
CATEGORIES:Feast Days
ATTACH;FMTTYPE=image/jpeg:https://stjudesrec.org/wp-content/uploads/2024/11/GRM_Inv._J-3182.jpg
END:VEVENT
BEGIN:VEVENT
DTSTART;TZID=America/New_York:20251228T100000
DTEND;TZID=America/New_York:20251228T103000
DTSTAMP:20260421T195403
CREATED:20241120T170157Z
LAST-MODIFIED:20241120T170215Z
UID:10001982-1766916000-1766917800@stjudesrec.org
SUMMARY:Feast of the Holy Innocents
DESCRIPTION:Holy Communion service
URL:https://stjudesrec.org/calendar/feast-of-the-holy-innocents/2025-12-28/
LOCATION:St. Jude’s Anglican Church\, 8102 Ridge Rd\, Richmond\, VA\, 23229\, United States
CATEGORIES:Feast Days
ATTACH;FMTTYPE=image/jpeg:https://stjudesrec.org/wp-content/uploads/2024/11/main-image.jpg
END:VEVENT
BEGIN:VEVENT
DTSTART;TZID=America/New_York:20260101T100000
DTEND;TZID=America/New_York:20260101T103000
DTSTAMP:20260421T195403
CREATED:20241120T170647Z
LAST-MODIFIED:20241120T170647Z
UID:10001987-1767261600-1767263400@stjudesrec.org
SUMMARY:Feast of the Circumcision of Christ
DESCRIPTION:Holy Communion service
URL:https://stjudesrec.org/calendar/feast-of-the-circumcision-of-christ/2026-01-01/
LOCATION:St. Jude’s Anglican Church\, 8102 Ridge Rd\, Richmond\, VA\, 23229\, United States
CATEGORIES:Feast Days
ATTACH;FMTTYPE=image/jpeg:https://stjudesrec.org/wp-content/uploads/2024/11/420px-Menologion_of_Basil_047.jpg
END:VEVENT
BEGIN:VEVENT
DTSTART;TZID=America/New_York:20260106T100000
DTEND;TZID=America/New_York:20260106T103000
DTSTAMP:20260421T195403
CREATED:20241120T170916Z
LAST-MODIFIED:20241120T170916Z
UID:10001992-1767693600-1767695400@stjudesrec.org
SUMMARY:Feast of the Epiphany
DESCRIPTION:Holy Communion service
URL:https://stjudesrec.org/calendar/feast-of-the-epiphany/2026-01-06/
LOCATION:St. Jude’s Anglican Church\, 8102 Ridge Rd\, Richmond\, VA\, 23229\, United States
CATEGORIES:Feast Days
ATTACH;FMTTYPE=image/jpeg:https://stjudesrec.org/wp-content/uploads/2024/11/Abraham_Bloemaert_-_The_adoration_of_the_Magi_-_Google_Art_Project.jpg
END:VEVENT
BEGIN:VEVENT
DTSTART;TZID=America/New_York:20260402T173000
DTEND;TZID=America/New_York:20260402T173000
DTSTAMP:20260421T195403
CREATED:20250318T145907Z
LAST-MODIFIED:20260331T152601Z
UID:10002052-1775151000-1775151000@stjudesrec.org
SUMMARY:Maundy Thursday
DESCRIPTION:Holy Communion with a stripping of the altar
URL:https://stjudesrec.org/calendar/maundy-thursday/
LOCATION:St. Jude’s Anglican Church\, 8102 Ridge Rd\, Richmond\, VA\, 23229\, United States
CATEGORIES:Holy Week
ATTACH;FMTTYPE=image/jpeg:https://stjudesrec.org/wp-content/uploads/2025/03/Philippe_de_Champaigne_-_The_Last_Supper_-_WGA4710.jpg
END:VEVENT
BEGIN:VEVENT
DTSTART;TZID=America/New_York:20260403T120000
DTEND;TZID=America/New_York:20260403T150000
DTSTAMP:20260421T195403
CREATED:20250318T150624Z
LAST-MODIFIED:20260331T152536Z
UID:10002053-1775217600-1775228400@stjudesrec.org
SUMMARY:Good Friday
DESCRIPTION:A Penitential Office with Meditations on the Seven Last Words of Christ
URL:https://stjudesrec.org/calendar/good-friday/
LOCATION:St. Jude’s Anglican Church\, 8102 Ridge Rd\, Richmond\, VA\, 23229\, United States
CATEGORIES:Holy Week
ATTACH;FMTTYPE=image/jpeg:https://stjudesrec.org/wp-content/uploads/2025/03/Matthias_Grunewald_-_The_Crucifixion_-_WGA10789.jpg
END:VEVENT
BEGIN:VEVENT
DTSTART;TZID=America/New_York:20260404T100000
DTEND;TZID=America/New_York:20260404T100000
DTSTAMP:20260421T195403
CREATED:20250318T150800Z
LAST-MODIFIED:20260331T152711Z
UID:10002054-1775296800-1775296800@stjudesrec.org
SUMMARY:Easter Even
DESCRIPTION:Morning Prayer with Ante-Communion
URL:https://stjudesrec.org/calendar/holy-saturday/
LOCATION:St. Jude’s Anglican Church\, 8102 Ridge Rd\, Richmond\, VA\, 23229\, United States
CATEGORIES:Holy Week
ATTACH;FMTTYPE=image/jpeg:https://stjudesrec.org/wp-content/uploads/2025/03/MantegnaDescentLimbo.jpg
END:VEVENT
BEGIN:VEVENT
DTSTART;TZID=America/New_York:20260405T080000
DTEND;TZID=America/New_York:20260405T090000
DTSTAMP:20260421T195403
CREATED:20250318T151422Z
LAST-MODIFIED:20260331T152632Z
UID:10002056-1775376000-1775379600@stjudesrec.org
SUMMARY:Easter Sunday-Early Service
DESCRIPTION:Holy Communion service
URL:https://stjudesrec.org/calendar/easter-sunday-late-service/
LOCATION:St. Jude’s Anglican Church\, 8102 Ridge Rd\, Richmond\, VA\, 23229\, United States
CATEGORIES:Holy Week
ATTACH;FMTTYPE=image/jpeg:https://stjudesrec.org/wp-content/uploads/2025/03/800px-Hans_Multscher_-_Flugel-Innenseite_des_Wurzacher_Altars_rechts_unten_-_Google_Art_Project.jpg
END:VEVENT
BEGIN:VEVENT
DTSTART;TZID=America/New_York:20260405T100000
DTEND;TZID=America/New_York:20260405T113000
DTSTAMP:20260421T195403
CREATED:20250318T151701Z
LAST-MODIFIED:20260331T152745Z
UID:10002057-1775383200-1775388600@stjudesrec.org
SUMMARY:Easter Sunday-Late Service
DESCRIPTION:Holy Communion service
URL:https://stjudesrec.org/calendar/easter-sunday-late-service-2/
LOCATION:St. Jude’s Anglican Church\, 8102 Ridge Rd\, Richmond\, VA\, 23229\, United States
CATEGORIES:Holy Week
ATTACH;FMTTYPE=image/jpeg:https://stjudesrec.org/wp-content/uploads/2025/03/1199px-Rubens_resurrection_du_Christ.jpg
END:VEVENT
END:VCALENDAR