BEGIN:VCALENDAR
VERSION:2.0
PRODID:-//St Jude&#039;s Anglican Church - ECPv6.15.20//NONSGML v1.0//EN
CALSCALE:GREGORIAN
METHOD:PUBLISH
X-WR-CALNAME:St Jude&#039;s Anglican Church
X-ORIGINAL-URL:https://stjudesrec.org
X-WR-CALDESC:Events for St Jude&#039;s Anglican Church
REFRESH-INTERVAL;VALUE=DURATION:PT1H
X-Robots-Tag:noindex
X-PUBLISHED-TTL:PT1H
BEGIN:VTIMEZONE
TZID:UTC
BEGIN:STANDARD
TZOFFSETFROM:+0000
TZOFFSETTO:+0000
TZNAME:UTC
DTSTART:20240101T000000
END:STANDARD
END:VTIMEZONE
BEGIN:VTIMEZONE
TZID:America/New_York
BEGIN:DAYLIGHT
TZOFFSETFROM:-0500
TZOFFSETTO:-0400
TZNAME:EDT
DTSTART:20240310T070000
END:DAYLIGHT
BEGIN:STANDARD
TZOFFSETFROM:-0400
TZOFFSETTO:-0500
TZNAME:EST
DTSTART:20241103T060000
END:STANDARD
BEGIN:DAYLIGHT
TZOFFSETFROM:-0500
TZOFFSETTO:-0400
TZNAME:EDT
DTSTART:20250309T070000
END:DAYLIGHT
BEGIN:STANDARD
TZOFFSETFROM:-0400
TZOFFSETTO:-0500
TZNAME:EST
DTSTART:20251102T060000
END:STANDARD
BEGIN:DAYLIGHT
TZOFFSETFROM:-0500
TZOFFSETTO:-0400
TZNAME:EDT
DTSTART:20260308T070000
END:DAYLIGHT
BEGIN:STANDARD
TZOFFSETFROM:-0400
TZOFFSETTO:-0500
TZNAME:EST
DTSTART:20261101T060000
END:STANDARD
END:VTIMEZONE
BEGIN:VEVENT
DTSTART;TZID=UTC:20250201T080000
DTEND;TZID=UTC:20250201T090000
DTSTAMP:20260425T075407
CREATED:20240724T230735Z
LAST-MODIFIED:20250323T124518Z
UID:10001337-1738396800-1738400400@stjudesrec.org
SUMMARY:Men’s Bible Study
DESCRIPTION:Saturday Morning Men’s Bible Study starts at 8:00 AM in the upstairs portion of the church. Bring your Bible\, and we’ll provide the coffee!
URL:https://stjudesrec.org/calendar/mens-bible-study-2/2025-02-01/
LOCATION:St. Jude’s Anglican Church\, 8102 Ridge Rd\, Richmond\, VA\, 23229\, United States
ATTACH;FMTTYPE=image/avif:https://stjudesrec.org/wp-content/uploads/2024/07/photo-1625682786914-6974e9fc7073.avif
END:VEVENT
BEGIN:VEVENT
DTSTART;TZID=UTC:20250202T093000
DTEND;TZID=UTC:20250202T110000
DTSTAMP:20260425T075407
CREATED:20240716T222609Z
LAST-MODIFIED:20250323T124045Z
UID:10000815-1738488600-1738494000@stjudesrec.org
SUMMARY:Sunday Morning Service
DESCRIPTION:Our Divine Service is held every Sunday at 9:30 am. Whether it be Holy Communion\, or Morning Prayer\, we join together in order to worship God. The historic liturgy forms and shapes our devotion as we corporately call upon the name of the Lord. Together\, we partake in the grace our Lord grants us in the faithful ministry of Word and Sacrament.
URL:https://stjudesrec.org/calendar/sunday-service/2025-02-02/
LOCATION:St. Jude’s Anglican Church\, 8102 Ridge Rd\, Richmond\, VA\, 23229\, United States
ATTACH;FMTTYPE=image/jpeg:https://stjudesrec.org/wp-content/uploads/2024/07/23669143_10155687117982850_3473524372938563256_o-1.jpg
END:VEVENT
BEGIN:VEVENT
DTSTART;TZID=America/New_York:20250202T100000
DTEND;TZID=America/New_York:20250202T110000
DTSTAMP:20260425T075407
CREATED:20250120T141249Z
LAST-MODIFIED:20250120T141249Z
UID:10002007-1738490400-1738494000@stjudesrec.org
SUMMARY:Feast of the Presentation of Christ in the Temple\, commonly called the Purification of the Virgin Mary
DESCRIPTION:Service of Holy Communion
URL:https://stjudesrec.org/calendar/feast-of-the-presentation-of-christ-in-the-temple-commonly-called-the-purification-of-the-virgin-mary/2025-02-02/
LOCATION:St. Jude’s Anglican Church\, 8102 Ridge Rd\, Richmond\, VA\, 23229\, United States
CATEGORIES:Feast Days
ATTACH;FMTTYPE=image/jpeg:https://stjudesrec.org/wp-content/uploads/2025/01/Fra_Bartolomeo_007.jpg
END:VEVENT
BEGIN:VEVENT
DTSTART;TZID=America/New_York:20250204T100000
DTEND;TZID=America/New_York:20250204T113000
DTSTAMP:20260425T075407
CREATED:20240925T141219Z
LAST-MODIFIED:20250129T235441Z
UID:10001685-1738663200-1738668600@stjudesrec.org
SUMMARY:Ladies' Morning Devotional
DESCRIPTION:Join us for prayer\, Bible study\, and fellowship!
URL:https://stjudesrec.org/calendar/ladies-morning-devotional/2025-02-04/
LOCATION:Contact us via our website to discern location
CATEGORIES:Church Members Only
ATTACH;FMTTYPE=image/jpeg:https://stjudesrec.org/wp-content/uploads/2024/09/allen-taylor-lLk1oJA7Wkg-unsplash.jpg
END:VEVENT
BEGIN:VEVENT
DTSTART;TZID=UTC:20250205T190000
DTEND;TZID=UTC:20250205T201500
DTSTAMP:20260425T075407
CREATED:20240724T230957Z
LAST-MODIFIED:20250323T124351Z
UID:10000032-1738782000-1738786500@stjudesrec.org
SUMMARY:Evening Prayer & Bible Study
DESCRIPTION:Wednesday Night Evening Prayer and Bible Study starts at 7:00 PM at the church. Visitors are most welcome. We finish by 8:15 PM.
URL:https://stjudesrec.org/calendar/evening-prayer-bible-study-2/2025-02-05/
LOCATION:St. Jude’s Anglican Church\, 8102 Ridge Rd\, Richmond\, VA\, 23229\, United States
ATTACH;FMTTYPE=image/jpeg:https://stjudesrec.org/wp-content/uploads/2024/07/pexels-jmark-250609-scaled.jpg
END:VEVENT
BEGIN:VEVENT
DTSTART;TZID=UTC:20250208T080000
DTEND;TZID=UTC:20250208T090000
DTSTAMP:20260425T075407
CREATED:20240724T230735Z
LAST-MODIFIED:20250323T124518Z
UID:10001338-1739001600-1739005200@stjudesrec.org
SUMMARY:Men’s Bible Study
DESCRIPTION:Saturday Morning Men’s Bible Study starts at 8:00 AM in the upstairs portion of the church. Bring your Bible\, and we’ll provide the coffee!
URL:https://stjudesrec.org/calendar/mens-bible-study-2/2025-02-08/
LOCATION:St. Jude’s Anglican Church\, 8102 Ridge Rd\, Richmond\, VA\, 23229\, United States
ATTACH;FMTTYPE=image/avif:https://stjudesrec.org/wp-content/uploads/2024/07/photo-1625682786914-6974e9fc7073.avif
END:VEVENT
BEGIN:VEVENT
DTSTART;TZID=UTC:20250209T093000
DTEND;TZID=UTC:20250209T110000
DTSTAMP:20260425T075407
CREATED:20240716T222609Z
LAST-MODIFIED:20250323T124045Z
UID:10000816-1739093400-1739098800@stjudesrec.org
SUMMARY:Sunday Morning Service
DESCRIPTION:Our Divine Service is held every Sunday at 9:30 am. Whether it be Holy Communion\, or Morning Prayer\, we join together in order to worship God. The historic liturgy forms and shapes our devotion as we corporately call upon the name of the Lord. Together\, we partake in the grace our Lord grants us in the faithful ministry of Word and Sacrament.
URL:https://stjudesrec.org/calendar/sunday-service/2025-02-09/
LOCATION:St. Jude’s Anglican Church\, 8102 Ridge Rd\, Richmond\, VA\, 23229\, United States
ATTACH;FMTTYPE=image/jpeg:https://stjudesrec.org/wp-content/uploads/2024/07/23669143_10155687117982850_3473524372938563256_o-1.jpg
END:VEVENT
BEGIN:VEVENT
DTSTART;TZID=America/New_York:20250211T100000
DTEND;TZID=America/New_York:20250211T113000
DTSTAMP:20260425T075407
CREATED:20240925T141219Z
LAST-MODIFIED:20250129T235441Z
UID:10001686-1739268000-1739273400@stjudesrec.org
SUMMARY:Ladies' Morning Devotional
DESCRIPTION:Join us for prayer\, Bible study\, and fellowship!
URL:https://stjudesrec.org/calendar/ladies-morning-devotional/2025-02-11/
LOCATION:Contact us via our website to discern location
CATEGORIES:Church Members Only
ATTACH;FMTTYPE=image/jpeg:https://stjudesrec.org/wp-content/uploads/2024/09/allen-taylor-lLk1oJA7Wkg-unsplash.jpg
END:VEVENT
BEGIN:VEVENT
DTSTART;TZID=UTC:20250212T190000
DTEND;TZID=UTC:20250212T201500
DTSTAMP:20260425T075407
CREATED:20240724T230957Z
LAST-MODIFIED:20250323T124351Z
UID:10000033-1739386800-1739391300@stjudesrec.org
SUMMARY:Evening Prayer & Bible Study
DESCRIPTION:Wednesday Night Evening Prayer and Bible Study starts at 7:00 PM at the church. Visitors are most welcome. We finish by 8:15 PM.
URL:https://stjudesrec.org/calendar/evening-prayer-bible-study-2/2025-02-12/
LOCATION:St. Jude’s Anglican Church\, 8102 Ridge Rd\, Richmond\, VA\, 23229\, United States
ATTACH;FMTTYPE=image/jpeg:https://stjudesrec.org/wp-content/uploads/2024/07/pexels-jmark-250609-scaled.jpg
END:VEVENT
BEGIN:VEVENT
DTSTART;TZID=America/New_York:20250213T190000
DTEND;TZID=America/New_York:20250213T200000
DTSTAMP:20260425T075407
CREATED:20241023T204221Z
LAST-MODIFIED:20241108T163033Z
UID:10001952-1739473200-1739476800@stjudesrec.org
SUMMARY:Book Club: The Fellowship of the Ring
DESCRIPTION:“One Ring to rule them all\, One Ring to find them\, One Ring to bring them all\, and in the darkness bind them.” \nConflict between good and evil. Loyalty and betrayal. Courage and cowardice. Purity and corruption. The Fellowship of the Ring has all this and more. The fruit of J. R. R. Tolkien’s genius\, this imaginative fantasy is a rich literary tapestry that continues to inspire with its beautiful story. Join us as we start our series on The Lord of the Rings!
URL:https://stjudesrec.org/calendar/book-club-the-fellowship-of-the-ring/
LOCATION:St. Jude’s Anglican Church\, 8102 Ridge Rd\, Richmond\, VA\, 23229\, United States
CATEGORIES:Book Club
ATTACH;FMTTYPE=image/jpeg:https://stjudesrec.org/wp-content/uploads/2024/10/thandy-yung-zeW9BQbWmJs-unsplash.jpg
END:VEVENT
BEGIN:VEVENT
DTSTART;TZID=UTC:20250215T080000
DTEND;TZID=UTC:20250215T090000
DTSTAMP:20260425T075407
CREATED:20240724T230735Z
LAST-MODIFIED:20250323T124518Z
UID:10001339-1739606400-1739610000@stjudesrec.org
SUMMARY:Men’s Bible Study
DESCRIPTION:Saturday Morning Men’s Bible Study starts at 8:00 AM in the upstairs portion of the church. Bring your Bible\, and we’ll provide the coffee!
URL:https://stjudesrec.org/calendar/mens-bible-study-2/2025-02-15/
LOCATION:St. Jude’s Anglican Church\, 8102 Ridge Rd\, Richmond\, VA\, 23229\, United States
ATTACH;FMTTYPE=image/avif:https://stjudesrec.org/wp-content/uploads/2024/07/photo-1625682786914-6974e9fc7073.avif
END:VEVENT
BEGIN:VEVENT
DTSTART;TZID=UTC:20250216T093000
DTEND;TZID=UTC:20250216T110000
DTSTAMP:20260425T075407
CREATED:20240716T222609Z
LAST-MODIFIED:20250323T124045Z
UID:10000817-1739698200-1739703600@stjudesrec.org
SUMMARY:Sunday Morning Service
DESCRIPTION:Our Divine Service is held every Sunday at 9:30 am. Whether it be Holy Communion\, or Morning Prayer\, we join together in order to worship God. The historic liturgy forms and shapes our devotion as we corporately call upon the name of the Lord. Together\, we partake in the grace our Lord grants us in the faithful ministry of Word and Sacrament.
URL:https://stjudesrec.org/calendar/sunday-service/2025-02-16/
LOCATION:St. Jude’s Anglican Church\, 8102 Ridge Rd\, Richmond\, VA\, 23229\, United States
ATTACH;FMTTYPE=image/jpeg:https://stjudesrec.org/wp-content/uploads/2024/07/23669143_10155687117982850_3473524372938563256_o-1.jpg
END:VEVENT
BEGIN:VEVENT
DTSTART;TZID=America/New_York:20250218T100000
DTEND;TZID=America/New_York:20250218T113000
DTSTAMP:20260425T075407
CREATED:20240925T141219Z
LAST-MODIFIED:20250129T235441Z
UID:10001687-1739872800-1739878200@stjudesrec.org
SUMMARY:Ladies' Morning Devotional
DESCRIPTION:Join us for prayer\, Bible study\, and fellowship!
URL:https://stjudesrec.org/calendar/ladies-morning-devotional/2025-02-18/
LOCATION:Contact us via our website to discern location
CATEGORIES:Church Members Only
ATTACH;FMTTYPE=image/jpeg:https://stjudesrec.org/wp-content/uploads/2024/09/allen-taylor-lLk1oJA7Wkg-unsplash.jpg
END:VEVENT
BEGIN:VEVENT
DTSTART;TZID=America/New_York:20250219T190000
DTEND;TZID=America/New_York:20250219T200000
DTSTAMP:20260425T075407
CREATED:20250218T141159Z
LAST-MODIFIED:20250218T141159Z
UID:10002035-1739991600-1739995200@stjudesrec.org
SUMMARY:Evening Prayer and Bible Study CANCELLED
DESCRIPTION:Due to expected inclement weather
URL:https://stjudesrec.org/calendar/evening-prayer-and-bible-study-cancelled-2/
LOCATION:St. Jude’s Anglican Church\, 8102 Ridge Rd\, Richmond\, VA\, 23229\, United States
END:VEVENT
BEGIN:VEVENT
DTSTART;TZID=UTC:20250219T190000
DTEND;TZID=UTC:20250219T201500
DTSTAMP:20260425T075407
CREATED:20240724T230957Z
LAST-MODIFIED:20250323T124351Z
UID:10000034-1739991600-1739996100@stjudesrec.org
SUMMARY:Evening Prayer & Bible Study
DESCRIPTION:Wednesday Night Evening Prayer and Bible Study starts at 7:00 PM at the church. Visitors are most welcome. We finish by 8:15 PM.
URL:https://stjudesrec.org/calendar/evening-prayer-bible-study-2/2025-02-19/
LOCATION:St. Jude’s Anglican Church\, 8102 Ridge Rd\, Richmond\, VA\, 23229\, United States
ATTACH;FMTTYPE=image/jpeg:https://stjudesrec.org/wp-content/uploads/2024/07/pexels-jmark-250609-scaled.jpg
END:VEVENT
BEGIN:VEVENT
DTSTART;TZID=UTC:20250222T080000
DTEND;TZID=UTC:20250222T090000
DTSTAMP:20260425T075407
CREATED:20240724T230735Z
LAST-MODIFIED:20250323T124518Z
UID:10001340-1740211200-1740214800@stjudesrec.org
SUMMARY:Men’s Bible Study
DESCRIPTION:Saturday Morning Men’s Bible Study starts at 8:00 AM in the upstairs portion of the church. Bring your Bible\, and we’ll provide the coffee!
URL:https://stjudesrec.org/calendar/mens-bible-study-2/2025-02-22/
LOCATION:St. Jude’s Anglican Church\, 8102 Ridge Rd\, Richmond\, VA\, 23229\, United States
ATTACH;FMTTYPE=image/avif:https://stjudesrec.org/wp-content/uploads/2024/07/photo-1625682786914-6974e9fc7073.avif
END:VEVENT
BEGIN:VEVENT
DTSTART;TZID=UTC:20250223T093000
DTEND;TZID=UTC:20250223T110000
DTSTAMP:20260425T075407
CREATED:20240716T222609Z
LAST-MODIFIED:20250323T124045Z
UID:10000818-1740303000-1740308400@stjudesrec.org
SUMMARY:Sunday Morning Service
DESCRIPTION:Our Divine Service is held every Sunday at 9:30 am. Whether it be Holy Communion\, or Morning Prayer\, we join together in order to worship God. The historic liturgy forms and shapes our devotion as we corporately call upon the name of the Lord. Together\, we partake in the grace our Lord grants us in the faithful ministry of Word and Sacrament.
URL:https://stjudesrec.org/calendar/sunday-service/2025-02-23/
LOCATION:St. Jude’s Anglican Church\, 8102 Ridge Rd\, Richmond\, VA\, 23229\, United States
ATTACH;FMTTYPE=image/jpeg:https://stjudesrec.org/wp-content/uploads/2024/07/23669143_10155687117982850_3473524372938563256_o-1.jpg
END:VEVENT
BEGIN:VEVENT
DTSTART;TZID=America/New_York:20250224T100000
DTEND;TZID=America/New_York:20250224T110000
DTSTAMP:20260425T075407
CREATED:20250120T141852Z
LAST-MODIFIED:20250120T141852Z
UID:10002012-1740391200-1740394800@stjudesrec.org
SUMMARY:Feast of St. Matthias the Apostle
DESCRIPTION:
URL:https://stjudesrec.org/calendar/feast-of-st-matthias-the-apostle/2025-02-24/
LOCATION:St. Jude’s Anglican Church\, 8102 Ridge Rd\, Richmond\, VA\, 23229\, United States
CATEGORIES:Feast Days
ATTACH;FMTTYPE=image/jpeg:https://stjudesrec.org/wp-content/uploads/2025/01/Rubens_apostle_Matthias_grt.jpg
END:VEVENT
BEGIN:VEVENT
DTSTART;TZID=America/New_York:20250225T100000
DTEND;TZID=America/New_York:20250225T113000
DTSTAMP:20260425T075407
CREATED:20240925T141219Z
LAST-MODIFIED:20250129T235441Z
UID:10001688-1740477600-1740483000@stjudesrec.org
SUMMARY:Ladies' Morning Devotional
DESCRIPTION:Join us for prayer\, Bible study\, and fellowship!
URL:https://stjudesrec.org/calendar/ladies-morning-devotional/2025-02-25/
LOCATION:Contact us via our website to discern location
CATEGORIES:Church Members Only
ATTACH;FMTTYPE=image/jpeg:https://stjudesrec.org/wp-content/uploads/2024/09/allen-taylor-lLk1oJA7Wkg-unsplash.jpg
END:VEVENT
BEGIN:VEVENT
DTSTART;TZID=UTC:20250226T190000
DTEND;TZID=UTC:20250226T201500
DTSTAMP:20260425T075407
CREATED:20240724T230957Z
LAST-MODIFIED:20250323T124351Z
UID:10000035-1740596400-1740600900@stjudesrec.org
SUMMARY:Evening Prayer & Bible Study
DESCRIPTION:Wednesday Night Evening Prayer and Bible Study starts at 7:00 PM at the church. Visitors are most welcome. We finish by 8:15 PM.
URL:https://stjudesrec.org/calendar/evening-prayer-bible-study-2/2025-02-26/
LOCATION:St. Jude’s Anglican Church\, 8102 Ridge Rd\, Richmond\, VA\, 23229\, United States
ATTACH;FMTTYPE=image/jpeg:https://stjudesrec.org/wp-content/uploads/2024/07/pexels-jmark-250609-scaled.jpg
END:VEVENT
END:VCALENDAR