BEGIN:VCALENDAR
VERSION:2.0
PRODID:-//St Jude&#039;s Anglican Church - ECPv6.15.20//NONSGML v1.0//EN
CALSCALE:GREGORIAN
METHOD:PUBLISH
X-ORIGINAL-URL:https://stjudesrec.org
X-WR-CALDESC:Events for St Jude&#039;s Anglican Church
REFRESH-INTERVAL;VALUE=DURATION:PT1H
X-Robots-Tag:noindex
X-PUBLISHED-TTL:PT1H
BEGIN:VTIMEZONE
TZID:America/New_York
BEGIN:DAYLIGHT
TZOFFSETFROM:-0500
TZOFFSETTO:-0400
TZNAME:EDT
DTSTART:20240310T070000
END:DAYLIGHT
BEGIN:STANDARD
TZOFFSETFROM:-0400
TZOFFSETTO:-0500
TZNAME:EST
DTSTART:20241103T060000
END:STANDARD
BEGIN:DAYLIGHT
TZOFFSETFROM:-0500
TZOFFSETTO:-0400
TZNAME:EDT
DTSTART:20250309T070000
END:DAYLIGHT
BEGIN:STANDARD
TZOFFSETFROM:-0400
TZOFFSETTO:-0500
TZNAME:EST
DTSTART:20251102T060000
END:STANDARD
BEGIN:DAYLIGHT
TZOFFSETFROM:-0500
TZOFFSETTO:-0400
TZNAME:EDT
DTSTART:20260308T070000
END:DAYLIGHT
BEGIN:STANDARD
TZOFFSETFROM:-0400
TZOFFSETTO:-0500
TZNAME:EST
DTSTART:20261101T060000
END:STANDARD
END:VTIMEZONE
BEGIN:VTIMEZONE
TZID:UTC
BEGIN:STANDARD
TZOFFSETFROM:+0000
TZOFFSETTO:+0000
TZNAME:UTC
DTSTART:20240101T000000
END:STANDARD
END:VTIMEZONE
BEGIN:VEVENT
DTSTART;TZID=America/New_York:20250401T100000
DTEND;TZID=America/New_York:20250401T113000
DTSTAMP:20260425T125813
CREATED:20240925T141219Z
LAST-MODIFIED:20250129T235441Z
UID:10001693-1743501600-1743507000@stjudesrec.org
SUMMARY:Ladies' Morning Devotional
DESCRIPTION:Join us for prayer\, Bible study\, and fellowship!
URL:https://stjudesrec.org/calendar/ladies-morning-devotional/2025-04-01/
LOCATION:Contact us via our website to discern location
CATEGORIES:Church Members Only
ATTACH;FMTTYPE=image/jpeg:https://stjudesrec.org/wp-content/uploads/2024/09/allen-taylor-lLk1oJA7Wkg-unsplash.jpg
END:VEVENT
BEGIN:VEVENT
DTSTART;TZID=UTC:20250402T190000
DTEND;TZID=UTC:20250402T201500
DTSTAMP:20260425T125813
CREATED:20240724T230957Z
LAST-MODIFIED:20250323T124351Z
UID:10000040-1743620400-1743624900@stjudesrec.org
SUMMARY:Evening Prayer & Bible Study
DESCRIPTION:Wednesday Night Evening Prayer and Bible Study starts at 7:00 PM at the church. Visitors are most welcome. We finish by 8:15 PM.
URL:https://stjudesrec.org/calendar/evening-prayer-bible-study-2/2025-04-02/
LOCATION:St. Jude’s Anglican Church\, 8102 Ridge Rd\, Richmond\, VA\, 23229\, United States
ATTACH;FMTTYPE=image/jpeg:https://stjudesrec.org/wp-content/uploads/2024/07/pexels-jmark-250609-scaled.jpg
END:VEVENT
BEGIN:VEVENT
DTSTART;TZID=UTC:20250405T080000
DTEND;TZID=UTC:20250405T090000
DTSTAMP:20260425T125813
CREATED:20240724T230735Z
LAST-MODIFIED:20250323T124518Z
UID:10001346-1743840000-1743843600@stjudesrec.org
SUMMARY:Men’s Bible Study
DESCRIPTION:Saturday Morning Men’s Bible Study starts at 8:00 AM in the upstairs portion of the church. Bring your Bible\, and we’ll provide the coffee!
URL:https://stjudesrec.org/calendar/mens-bible-study-2/2025-04-05/
LOCATION:St. Jude’s Anglican Church\, 8102 Ridge Rd\, Richmond\, VA\, 23229\, United States
ATTACH;FMTTYPE=image/avif:https://stjudesrec.org/wp-content/uploads/2024/07/photo-1625682786914-6974e9fc7073.avif
END:VEVENT
BEGIN:VEVENT
DTSTART;TZID=UTC:20250406T093000
DTEND;TZID=UTC:20250406T110000
DTSTAMP:20260425T125813
CREATED:20240716T222609Z
LAST-MODIFIED:20250323T124045Z
UID:10000824-1743931800-1743937200@stjudesrec.org
SUMMARY:Sunday Morning Service
DESCRIPTION:Our Divine Service is held every Sunday at 9:30 am. Whether it be Holy Communion\, or Morning Prayer\, we join together in order to worship God. The historic liturgy forms and shapes our devotion as we corporately call upon the name of the Lord. Together\, we partake in the grace our Lord grants us in the faithful ministry of Word and Sacrament.
URL:https://stjudesrec.org/calendar/sunday-service/2025-04-06/
LOCATION:St. Jude’s Anglican Church\, 8102 Ridge Rd\, Richmond\, VA\, 23229\, United States
ATTACH;FMTTYPE=image/jpeg:https://stjudesrec.org/wp-content/uploads/2024/07/23669143_10155687117982850_3473524372938563256_o-1.jpg
END:VEVENT
BEGIN:VEVENT
DTSTART;TZID=America/New_York:20250408T100000
DTEND;TZID=America/New_York:20250408T113000
DTSTAMP:20260425T125813
CREATED:20240925T141219Z
LAST-MODIFIED:20250129T235441Z
UID:10001694-1744106400-1744111800@stjudesrec.org
SUMMARY:Ladies' Morning Devotional
DESCRIPTION:Join us for prayer\, Bible study\, and fellowship!
URL:https://stjudesrec.org/calendar/ladies-morning-devotional/2025-04-08/
LOCATION:Contact us via our website to discern location
CATEGORIES:Church Members Only
ATTACH;FMTTYPE=image/jpeg:https://stjudesrec.org/wp-content/uploads/2024/09/allen-taylor-lLk1oJA7Wkg-unsplash.jpg
END:VEVENT
BEGIN:VEVENT
DTSTART;TZID=America/New_York:20250408T190000
DTEND;TZID=America/New_York:20250408T200000
DTSTAMP:20260425T125813
CREATED:20241023T205248Z
LAST-MODIFIED:20250318T135028Z
UID:10001954-1744138800-1744142400@stjudesrec.org
SUMMARY:Book Club: The Return of the King
DESCRIPTION:“Oft hope is born when all is forlorn.” \nWe come at last to the stunning climax of J. R. R. Tolkien’s Lord of the Rings trilogy: The Return of the King. Will Sauron and his forces of darkness triumph? Are the free peoples of Middle Earth doomed? Can there be any hope of restoration and renewal\, of a victory of goodness in the most desperate hour? Join us as we discuss this exciting conclusion to a wonderful series!
URL:https://stjudesrec.org/calendar/book-club-the-return-of-the-king/
LOCATION:St. Jude’s Anglican Church\, 8102 Ridge Rd\, Richmond\, VA\, 23229\, United States
CATEGORIES:Book Club
ATTACH;FMTTYPE=image/jpeg:https://stjudesrec.org/wp-content/uploads/2024/10/andrey-zaychuk-8pmYarWKTJc-unsplash.jpg
END:VEVENT
BEGIN:VEVENT
DTSTART;TZID=UTC:20250409T190000
DTEND;TZID=UTC:20250409T201500
DTSTAMP:20260425T125813
CREATED:20240724T230957Z
LAST-MODIFIED:20250323T124351Z
UID:10000041-1744225200-1744229700@stjudesrec.org
SUMMARY:Evening Prayer & Bible Study
DESCRIPTION:Wednesday Night Evening Prayer and Bible Study starts at 7:00 PM at the church. Visitors are most welcome. We finish by 8:15 PM.
URL:https://stjudesrec.org/calendar/evening-prayer-bible-study-2/2025-04-09/
LOCATION:St. Jude’s Anglican Church\, 8102 Ridge Rd\, Richmond\, VA\, 23229\, United States
ATTACH;FMTTYPE=image/jpeg:https://stjudesrec.org/wp-content/uploads/2024/07/pexels-jmark-250609-scaled.jpg
END:VEVENT
BEGIN:VEVENT
DTSTART;TZID=UTC:20250412T080000
DTEND;TZID=UTC:20250412T090000
DTSTAMP:20260425T125813
CREATED:20240724T230735Z
LAST-MODIFIED:20250323T124518Z
UID:10001347-1744444800-1744448400@stjudesrec.org
SUMMARY:Men’s Bible Study
DESCRIPTION:Saturday Morning Men’s Bible Study starts at 8:00 AM in the upstairs portion of the church. Bring your Bible\, and we’ll provide the coffee!
URL:https://stjudesrec.org/calendar/mens-bible-study-2/2025-04-12/
LOCATION:St. Jude’s Anglican Church\, 8102 Ridge Rd\, Richmond\, VA\, 23229\, United States
ATTACH;FMTTYPE=image/avif:https://stjudesrec.org/wp-content/uploads/2024/07/photo-1625682786914-6974e9fc7073.avif
END:VEVENT
BEGIN:VEVENT
DTSTART;TZID=America/New_York:20250413T093000
DTEND;TZID=America/New_York:20250413T110000
DTSTAMP:20260425T125813
CREATED:20250318T144451Z
LAST-MODIFIED:20250408T133807Z
UID:10002048-1744536600-1744542000@stjudesrec.org
SUMMARY:Palm Sunday
DESCRIPTION:Holy Communion with procession of palms
URL:https://stjudesrec.org/calendar/palm-sunday/
LOCATION:St. Jude’s Anglican Church\, 8102 Ridge Rd\, Richmond\, VA\, 23229\, United States
CATEGORIES:Holy Week
ATTACH;FMTTYPE=image/jpeg:https://stjudesrec.org/wp-content/uploads/2025/03/Pieter_Coecke_van_Aelst_-_Intocht_in_Jeruzalem.jpg
END:VEVENT
BEGIN:VEVENT
DTSTART;TZID=America/New_York:20250414T090000
DTEND;TZID=America/New_York:20250414T093000
DTSTAMP:20260425T125813
CREATED:20250318T144914Z
LAST-MODIFIED:20250323T124112Z
UID:10002049-1744621200-1744623000@stjudesrec.org
SUMMARY:Holy Monday
DESCRIPTION:Morning Prayer
URL:https://stjudesrec.org/calendar/holy-monday/
LOCATION:St. Jude’s Anglican Church\, 8102 Ridge Rd\, Richmond\, VA\, 23229\, United States
CATEGORIES:Holy Week
ATTACH;FMTTYPE=image/jpeg:https://stjudesrec.org/wp-content/uploads/2025/03/Luca_Giordano_-_Christ_Cleansing_the_Temple_-_WGA09000.jpg
END:VEVENT
BEGIN:VEVENT
DTSTART;TZID=America/New_York:20250415T090000
DTEND;TZID=America/New_York:20250415T093000
DTSTAMP:20260425T125813
CREATED:20250318T145152Z
LAST-MODIFIED:20250323T124103Z
UID:10002050-1744707600-1744709400@stjudesrec.org
SUMMARY:Holy Tuesday
DESCRIPTION:Morning Prayer
URL:https://stjudesrec.org/calendar/holy-tuesday/
LOCATION:St. Jude’s Anglican Church\, 8102 Ridge Rd\, Richmond\, VA\, 23229\, United States
CATEGORIES:Holy Week
ATTACH;FMTTYPE=image/jpeg:https://stjudesrec.org/wp-content/uploads/2025/03/David_Roberts_-_The_Siege_and_Destruction_of_Jerusalem_by_the_Romans_Under_the_Command_of_Titus_A.D._70.jpg
END:VEVENT
BEGIN:VEVENT
DTSTART;TZID=America/New_York:20250415T100000
DTEND;TZID=America/New_York:20250415T113000
DTSTAMP:20260425T125813
CREATED:20240925T141219Z
LAST-MODIFIED:20250129T235441Z
UID:10001695-1744711200-1744716600@stjudesrec.org
SUMMARY:Ladies' Morning Devotional
DESCRIPTION:Join us for prayer\, Bible study\, and fellowship!
URL:https://stjudesrec.org/calendar/ladies-morning-devotional/2025-04-15/
LOCATION:Contact us via our website to discern location
CATEGORIES:Church Members Only
ATTACH;FMTTYPE=image/jpeg:https://stjudesrec.org/wp-content/uploads/2024/09/allen-taylor-lLk1oJA7Wkg-unsplash.jpg
END:VEVENT
BEGIN:VEVENT
DTSTART;TZID=America/New_York:20250416T090000
DTEND;TZID=America/New_York:20250416T213000
DTSTAMP:20260425T125813
CREATED:20250318T145505Z
LAST-MODIFIED:20250323T123816Z
UID:10002051-1744794000-1744839000@stjudesrec.org
SUMMARY:Holy Wednesday
DESCRIPTION:Morning Prayer
URL:https://stjudesrec.org/calendar/holy-wednesday/
LOCATION:St. Jude’s Anglican Church\, 8102 Ridge Rd\, Richmond\, VA\, 23229\, United States
CATEGORIES:Holy Week
ATTACH;FMTTYPE=image/jpeg:https://stjudesrec.org/wp-content/uploads/2025/03/P._Molnar_The_Thirty_Pieces_of_Silver_1909.jpg
END:VEVENT
BEGIN:VEVENT
DTSTART;TZID=America/New_York:20250422T100000
DTEND;TZID=America/New_York:20250422T113000
DTSTAMP:20260425T125813
CREATED:20240925T141219Z
LAST-MODIFIED:20250129T235441Z
UID:10001696-1745316000-1745321400@stjudesrec.org
SUMMARY:Ladies' Morning Devotional
DESCRIPTION:Join us for prayer\, Bible study\, and fellowship!
URL:https://stjudesrec.org/calendar/ladies-morning-devotional/2025-04-22/
LOCATION:Contact us via our website to discern location
CATEGORIES:Church Members Only
ATTACH;FMTTYPE=image/jpeg:https://stjudesrec.org/wp-content/uploads/2024/09/allen-taylor-lLk1oJA7Wkg-unsplash.jpg
END:VEVENT
BEGIN:VEVENT
DTSTART;TZID=UTC:20250427T093000
DTEND;TZID=UTC:20250427T110000
DTSTAMP:20260425T125813
CREATED:20240716T222609Z
LAST-MODIFIED:20250323T124045Z
UID:10000827-1745746200-1745751600@stjudesrec.org
SUMMARY:Sunday Morning Service
DESCRIPTION:Our Divine Service is held every Sunday at 9:30 am. Whether it be Holy Communion\, or Morning Prayer\, we join together in order to worship God. The historic liturgy forms and shapes our devotion as we corporately call upon the name of the Lord. Together\, we partake in the grace our Lord grants us in the faithful ministry of Word and Sacrament.
URL:https://stjudesrec.org/calendar/sunday-service/2025-04-27/
LOCATION:St. Jude’s Anglican Church\, 8102 Ridge Rd\, Richmond\, VA\, 23229\, United States
ATTACH;FMTTYPE=image/jpeg:https://stjudesrec.org/wp-content/uploads/2024/07/23669143_10155687117982850_3473524372938563256_o-1.jpg
END:VEVENT
BEGIN:VEVENT
DTSTART;TZID=America/New_York:20250429T100000
DTEND;TZID=America/New_York:20250429T113000
DTSTAMP:20260425T125813
CREATED:20240925T141219Z
LAST-MODIFIED:20250129T235441Z
UID:10001697-1745920800-1745926200@stjudesrec.org
SUMMARY:Ladies' Morning Devotional
DESCRIPTION:Join us for prayer\, Bible study\, and fellowship!
URL:https://stjudesrec.org/calendar/ladies-morning-devotional/2025-04-29/
LOCATION:Contact us via our website to discern location
CATEGORIES:Church Members Only
ATTACH;FMTTYPE=image/jpeg:https://stjudesrec.org/wp-content/uploads/2024/09/allen-taylor-lLk1oJA7Wkg-unsplash.jpg
END:VEVENT
BEGIN:VEVENT
DTSTART;TZID=UTC:20250430T190000
DTEND;TZID=UTC:20250430T201500
DTSTAMP:20260425T125813
CREATED:20240724T230957Z
LAST-MODIFIED:20250323T124351Z
UID:10000044-1746039600-1746044100@stjudesrec.org
SUMMARY:Evening Prayer & Bible Study
DESCRIPTION:Wednesday Night Evening Prayer and Bible Study starts at 7:00 PM at the church. Visitors are most welcome. We finish by 8:15 PM.
URL:https://stjudesrec.org/calendar/evening-prayer-bible-study-2/2025-04-30/
LOCATION:St. Jude’s Anglican Church\, 8102 Ridge Rd\, Richmond\, VA\, 23229\, United States
ATTACH;FMTTYPE=image/jpeg:https://stjudesrec.org/wp-content/uploads/2024/07/pexels-jmark-250609-scaled.jpg
END:VEVENT
END:VCALENDAR