BEGIN:VCALENDAR
VERSION:2.0
PRODID:-//St Jude&#039;s Anglican Church - ECPv6.15.20//NONSGML v1.0//EN
CALSCALE:GREGORIAN
METHOD:PUBLISH
X-ORIGINAL-URL:https://stjudesrec.org
X-WR-CALDESC:Events for St Jude&#039;s Anglican Church
REFRESH-INTERVAL;VALUE=DURATION:PT1H
X-Robots-Tag:noindex
X-PUBLISHED-TTL:PT1H
BEGIN:VTIMEZONE
TZID:America/New_York
BEGIN:DAYLIGHT
TZOFFSETFROM:-0500
TZOFFSETTO:-0400
TZNAME:EDT
DTSTART:20240310T070000
END:DAYLIGHT
BEGIN:STANDARD
TZOFFSETFROM:-0400
TZOFFSETTO:-0500
TZNAME:EST
DTSTART:20241103T060000
END:STANDARD
BEGIN:DAYLIGHT
TZOFFSETFROM:-0500
TZOFFSETTO:-0400
TZNAME:EDT
DTSTART:20250309T070000
END:DAYLIGHT
BEGIN:STANDARD
TZOFFSETFROM:-0400
TZOFFSETTO:-0500
TZNAME:EST
DTSTART:20251102T060000
END:STANDARD
BEGIN:DAYLIGHT
TZOFFSETFROM:-0500
TZOFFSETTO:-0400
TZNAME:EDT
DTSTART:20260308T070000
END:DAYLIGHT
BEGIN:STANDARD
TZOFFSETFROM:-0400
TZOFFSETTO:-0500
TZNAME:EST
DTSTART:20261101T060000
END:STANDARD
END:VTIMEZONE
BEGIN:VTIMEZONE
TZID:UTC
BEGIN:STANDARD
TZOFFSETFROM:+0000
TZOFFSETTO:+0000
TZNAME:UTC
DTSTART:20240101T000000
END:STANDARD
END:VTIMEZONE
BEGIN:VEVENT
DTSTART;TZID=America/New_York:20250701T100000
DTEND;TZID=America/New_York:20250701T113000
DTSTAMP:20260425T195615
CREATED:20240925T141219Z
LAST-MODIFIED:20250129T235441Z
UID:10001706-1751364000-1751369400@stjudesrec.org
SUMMARY:Ladies' Morning Devotional
DESCRIPTION:Join us for prayer\, Bible study\, and fellowship!
URL:https://stjudesrec.org/calendar/ladies-morning-devotional/2025-07-01/
LOCATION:Contact us via our website to discern location
CATEGORIES:Church Members Only
ATTACH;FMTTYPE=image/jpeg:https://stjudesrec.org/wp-content/uploads/2024/09/allen-taylor-lLk1oJA7Wkg-unsplash.jpg
END:VEVENT
BEGIN:VEVENT
DTSTART;TZID=UTC:20250706T093000
DTEND;TZID=UTC:20250706T110000
DTSTAMP:20260425T195615
CREATED:20240716T222609Z
LAST-MODIFIED:20250323T124045Z
UID:10000837-1751794200-1751799600@stjudesrec.org
SUMMARY:Sunday Morning Service
DESCRIPTION:Our Divine Service is held every Sunday at 9:30 am. Whether it be Holy Communion\, or Morning Prayer\, we join together in order to worship God. The historic liturgy forms and shapes our devotion as we corporately call upon the name of the Lord. Together\, we partake in the grace our Lord grants us in the faithful ministry of Word and Sacrament.
URL:https://stjudesrec.org/calendar/sunday-service/2025-07-06/
LOCATION:St. Jude’s Anglican Church\, 8102 Ridge Rd\, Richmond\, VA\, 23229\, United States
ATTACH;FMTTYPE=image/jpeg:https://stjudesrec.org/wp-content/uploads/2024/07/23669143_10155687117982850_3473524372938563256_o-1.jpg
END:VEVENT
BEGIN:VEVENT
DTSTART;TZID=America/New_York:20250708T100000
DTEND;TZID=America/New_York:20250708T113000
DTSTAMP:20260425T195615
CREATED:20240925T141219Z
LAST-MODIFIED:20250129T235441Z
UID:10001707-1751968800-1751974200@stjudesrec.org
SUMMARY:Ladies' Morning Devotional
DESCRIPTION:Join us for prayer\, Bible study\, and fellowship!
URL:https://stjudesrec.org/calendar/ladies-morning-devotional/2025-07-08/
LOCATION:Contact us via our website to discern location
CATEGORIES:Church Members Only
ATTACH;FMTTYPE=image/jpeg:https://stjudesrec.org/wp-content/uploads/2024/09/allen-taylor-lLk1oJA7Wkg-unsplash.jpg
END:VEVENT
BEGIN:VEVENT
DTSTART;TZID=America/New_York:20250711T180000
DTEND;TZID=America/New_York:20250711T210000
DTSTAMP:20260425T195615
CREATED:20250627T121256Z
LAST-MODIFIED:20250627T121256Z
UID:10002125-1752256800-1752267600@stjudesrec.org
SUMMARY:Holy Smokes Men's Meet-up
DESCRIPTION:Join us for an event of good food\, drink\, fellowship\, and conversation. For our discussion\, we’ll share our thoughts on the state of the church. Where is it healthy and unhealthy? What things are going right or wrong? What should we be doing in the short term in terms of action? \nBe sure to RSVP for this event. Reach out to us if you need the address. This event is open to all men\, not just members of St. Jude’s!
URL:https://stjudesrec.org/calendar/holy-smokes-mens-meet-up-3/
LOCATION:Contact us via our website to discern location
CATEGORIES:Holy Smokes
ATTACH;FMTTYPE=image/jpeg:https://stjudesrec.org/wp-content/uploads/2024/08/jorgen-haland-i8-QLBo57tw-unsplash.jpg
END:VEVENT
BEGIN:VEVENT
DTSTART;TZID=UTC:20250713T093000
DTEND;TZID=UTC:20250713T110000
DTSTAMP:20260425T195615
CREATED:20240716T222609Z
LAST-MODIFIED:20250323T124045Z
UID:10000838-1752399000-1752404400@stjudesrec.org
SUMMARY:Sunday Morning Service
DESCRIPTION:Our Divine Service is held every Sunday at 9:30 am. Whether it be Holy Communion\, or Morning Prayer\, we join together in order to worship God. The historic liturgy forms and shapes our devotion as we corporately call upon the name of the Lord. Together\, we partake in the grace our Lord grants us in the faithful ministry of Word and Sacrament.
URL:https://stjudesrec.org/calendar/sunday-service/2025-07-13/
LOCATION:St. Jude’s Anglican Church\, 8102 Ridge Rd\, Richmond\, VA\, 23229\, United States
ATTACH;FMTTYPE=image/jpeg:https://stjudesrec.org/wp-content/uploads/2024/07/23669143_10155687117982850_3473524372938563256_o-1.jpg
END:VEVENT
BEGIN:VEVENT
DTSTART;TZID=America/New_York:20250715T100000
DTEND;TZID=America/New_York:20250715T113000
DTSTAMP:20260425T195615
CREATED:20240925T141219Z
LAST-MODIFIED:20250129T235441Z
UID:10001708-1752573600-1752579000@stjudesrec.org
SUMMARY:Ladies' Morning Devotional
DESCRIPTION:Join us for prayer\, Bible study\, and fellowship!
URL:https://stjudesrec.org/calendar/ladies-morning-devotional/2025-07-15/
LOCATION:Contact us via our website to discern location
CATEGORIES:Church Members Only
ATTACH;FMTTYPE=image/jpeg:https://stjudesrec.org/wp-content/uploads/2024/09/allen-taylor-lLk1oJA7Wkg-unsplash.jpg
END:VEVENT
BEGIN:VEVENT
DTSTART;TZID=UTC:20250720T093000
DTEND;TZID=UTC:20250720T110000
DTSTAMP:20260425T195615
CREATED:20240716T222609Z
LAST-MODIFIED:20250323T124045Z
UID:10000839-1753003800-1753009200@stjudesrec.org
SUMMARY:Sunday Morning Service
DESCRIPTION:Our Divine Service is held every Sunday at 9:30 am. Whether it be Holy Communion\, or Morning Prayer\, we join together in order to worship God. The historic liturgy forms and shapes our devotion as we corporately call upon the name of the Lord. Together\, we partake in the grace our Lord grants us in the faithful ministry of Word and Sacrament.
URL:https://stjudesrec.org/calendar/sunday-service/2025-07-20/
LOCATION:St. Jude’s Anglican Church\, 8102 Ridge Rd\, Richmond\, VA\, 23229\, United States
ATTACH;FMTTYPE=image/jpeg:https://stjudesrec.org/wp-content/uploads/2024/07/23669143_10155687117982850_3473524372938563256_o-1.jpg
END:VEVENT
BEGIN:VEVENT
DTSTART;TZID=America/New_York:20250722T100000
DTEND;TZID=America/New_York:20250722T113000
DTSTAMP:20260425T195615
CREATED:20240925T141219Z
LAST-MODIFIED:20250129T235441Z
UID:10001709-1753178400-1753183800@stjudesrec.org
SUMMARY:Ladies' Morning Devotional
DESCRIPTION:Join us for prayer\, Bible study\, and fellowship!
URL:https://stjudesrec.org/calendar/ladies-morning-devotional/2025-07-22/
LOCATION:Contact us via our website to discern location
CATEGORIES:Church Members Only
ATTACH;FMTTYPE=image/jpeg:https://stjudesrec.org/wp-content/uploads/2024/09/allen-taylor-lLk1oJA7Wkg-unsplash.jpg
END:VEVENT
BEGIN:VEVENT
DTSTART;TZID=UTC:20250727T093000
DTEND;TZID=UTC:20250727T110000
DTSTAMP:20260425T195615
CREATED:20240716T222609Z
LAST-MODIFIED:20250323T124045Z
UID:10000840-1753608600-1753614000@stjudesrec.org
SUMMARY:Sunday Morning Service
DESCRIPTION:Our Divine Service is held every Sunday at 9:30 am. Whether it be Holy Communion\, or Morning Prayer\, we join together in order to worship God. The historic liturgy forms and shapes our devotion as we corporately call upon the name of the Lord. Together\, we partake in the grace our Lord grants us in the faithful ministry of Word and Sacrament.
URL:https://stjudesrec.org/calendar/sunday-service/2025-07-27/
LOCATION:St. Jude’s Anglican Church\, 8102 Ridge Rd\, Richmond\, VA\, 23229\, United States
ATTACH;FMTTYPE=image/jpeg:https://stjudesrec.org/wp-content/uploads/2024/07/23669143_10155687117982850_3473524372938563256_o-1.jpg
END:VEVENT
BEGIN:VEVENT
DTSTART;TZID=America/New_York:20250729T100000
DTEND;TZID=America/New_York:20250729T113000
DTSTAMP:20260425T195615
CREATED:20240925T141219Z
LAST-MODIFIED:20250129T235441Z
UID:10001710-1753783200-1753788600@stjudesrec.org
SUMMARY:Ladies' Morning Devotional
DESCRIPTION:Join us for prayer\, Bible study\, and fellowship!
URL:https://stjudesrec.org/calendar/ladies-morning-devotional/2025-07-29/
LOCATION:Contact us via our website to discern location
CATEGORIES:Church Members Only
ATTACH;FMTTYPE=image/jpeg:https://stjudesrec.org/wp-content/uploads/2024/09/allen-taylor-lLk1oJA7Wkg-unsplash.jpg
END:VEVENT
END:VCALENDAR