BEGIN:VCALENDAR
VERSION:2.0
PRODID:-//St Jude&#039;s Anglican Church - ECPv6.15.20//NONSGML v1.0//EN
CALSCALE:GREGORIAN
METHOD:PUBLISH
X-ORIGINAL-URL:https://stjudesrec.org
X-WR-CALDESC:Events for St Jude&#039;s Anglican Church
REFRESH-INTERVAL;VALUE=DURATION:PT1H
X-Robots-Tag:noindex
X-PUBLISHED-TTL:PT1H
BEGIN:VTIMEZONE
TZID:America/New_York
BEGIN:DAYLIGHT
TZOFFSETFROM:-0500
TZOFFSETTO:-0400
TZNAME:EDT
DTSTART:20240310T070000
END:DAYLIGHT
BEGIN:STANDARD
TZOFFSETFROM:-0400
TZOFFSETTO:-0500
TZNAME:EST
DTSTART:20241103T060000
END:STANDARD
BEGIN:DAYLIGHT
TZOFFSETFROM:-0500
TZOFFSETTO:-0400
TZNAME:EDT
DTSTART:20250309T070000
END:DAYLIGHT
BEGIN:STANDARD
TZOFFSETFROM:-0400
TZOFFSETTO:-0500
TZNAME:EST
DTSTART:20251102T060000
END:STANDARD
BEGIN:DAYLIGHT
TZOFFSETFROM:-0500
TZOFFSETTO:-0400
TZNAME:EDT
DTSTART:20260308T070000
END:DAYLIGHT
BEGIN:STANDARD
TZOFFSETFROM:-0400
TZOFFSETTO:-0500
TZNAME:EST
DTSTART:20261101T060000
END:STANDARD
END:VTIMEZONE
BEGIN:VEVENT
DTSTART;TZID=America/New_York:20250413T093000
DTEND;TZID=America/New_York:20250413T110000
DTSTAMP:20260425T214229
CREATED:20250318T144451Z
LAST-MODIFIED:20250408T133807Z
UID:10002048-1744536600-1744542000@stjudesrec.org
SUMMARY:Palm Sunday
DESCRIPTION:Holy Communion with procession of palms
URL:https://stjudesrec.org/calendar/palm-sunday/
LOCATION:St. Jude’s Anglican Church\, 8102 Ridge Rd\, Richmond\, VA\, 23229\, United States
CATEGORIES:Holy Week
ATTACH;FMTTYPE=image/jpeg:https://stjudesrec.org/wp-content/uploads/2025/03/Pieter_Coecke_van_Aelst_-_Intocht_in_Jeruzalem.jpg
END:VEVENT
BEGIN:VEVENT
DTSTART;TZID=America/New_York:20250414T090000
DTEND;TZID=America/New_York:20250414T093000
DTSTAMP:20260425T214229
CREATED:20250318T144914Z
LAST-MODIFIED:20250323T124112Z
UID:10002049-1744621200-1744623000@stjudesrec.org
SUMMARY:Holy Monday
DESCRIPTION:Morning Prayer
URL:https://stjudesrec.org/calendar/holy-monday/
LOCATION:St. Jude’s Anglican Church\, 8102 Ridge Rd\, Richmond\, VA\, 23229\, United States
CATEGORIES:Holy Week
ATTACH;FMTTYPE=image/jpeg:https://stjudesrec.org/wp-content/uploads/2025/03/Luca_Giordano_-_Christ_Cleansing_the_Temple_-_WGA09000.jpg
END:VEVENT
BEGIN:VEVENT
DTSTART;TZID=America/New_York:20250415T090000
DTEND;TZID=America/New_York:20250415T093000
DTSTAMP:20260425T214229
CREATED:20250318T145152Z
LAST-MODIFIED:20250323T124103Z
UID:10002050-1744707600-1744709400@stjudesrec.org
SUMMARY:Holy Tuesday
DESCRIPTION:Morning Prayer
URL:https://stjudesrec.org/calendar/holy-tuesday/
LOCATION:St. Jude’s Anglican Church\, 8102 Ridge Rd\, Richmond\, VA\, 23229\, United States
CATEGORIES:Holy Week
ATTACH;FMTTYPE=image/jpeg:https://stjudesrec.org/wp-content/uploads/2025/03/David_Roberts_-_The_Siege_and_Destruction_of_Jerusalem_by_the_Romans_Under_the_Command_of_Titus_A.D._70.jpg
END:VEVENT
BEGIN:VEVENT
DTSTART;TZID=America/New_York:20250415T100000
DTEND;TZID=America/New_York:20250415T113000
DTSTAMP:20260425T214229
CREATED:20240925T141219Z
LAST-MODIFIED:20250129T235441Z
UID:10001695-1744711200-1744716600@stjudesrec.org
SUMMARY:Ladies' Morning Devotional
DESCRIPTION:Join us for prayer\, Bible study\, and fellowship!
URL:https://stjudesrec.org/calendar/ladies-morning-devotional/2025-04-15/
LOCATION:Contact us via our website to discern location
CATEGORIES:Church Members Only
ATTACH;FMTTYPE=image/jpeg:https://stjudesrec.org/wp-content/uploads/2024/09/allen-taylor-lLk1oJA7Wkg-unsplash.jpg
END:VEVENT
BEGIN:VEVENT
DTSTART;TZID=America/New_York:20250416T090000
DTEND;TZID=America/New_York:20250416T213000
DTSTAMP:20260425T214229
CREATED:20250318T145505Z
LAST-MODIFIED:20250323T123816Z
UID:10002051-1744794000-1744839000@stjudesrec.org
SUMMARY:Holy Wednesday
DESCRIPTION:Morning Prayer
URL:https://stjudesrec.org/calendar/holy-wednesday/
LOCATION:St. Jude’s Anglican Church\, 8102 Ridge Rd\, Richmond\, VA\, 23229\, United States
CATEGORIES:Holy Week
ATTACH;FMTTYPE=image/jpeg:https://stjudesrec.org/wp-content/uploads/2025/03/P._Molnar_The_Thirty_Pieces_of_Silver_1909.jpg
END:VEVENT
END:VCALENDAR